BEGIN:VCALENDAR
VERSION:2.0
PRODID:-//Winds of Hope - ECPv6.6.3//NONSGML v1.0//EN
CALSCALE:GREGORIAN
METHOD:PUBLISH
X-WR-CALNAME:Winds of Hope
X-ORIGINAL-URL:https://windsofhopeny.com
X-WR-CALDESC:Events for Winds of Hope
REFRESH-INTERVAL;VALUE=DURATION:PT1H
X-Robots-Tag:noindex
X-PUBLISHED-TTL:PT1H
BEGIN:VTIMEZONE
TZID:America/New_York
BEGIN:DAYLIGHT
TZOFFSETFROM:-0500
TZOFFSETTO:-0400
TZNAME:EDT
DTSTART:20250309T070000
END:DAYLIGHT
BEGIN:STANDARD
TZOFFSETFROM:-0400
TZOFFSETTO:-0500
TZNAME:EST
DTSTART:20251102T060000
END:STANDARD
END:VTIMEZONE
BEGIN:VEVENT
DTSTART;TZID=America/New_York:20250208T190000
DTEND;TZID=America/New_York:20250208T210000
DTSTAMP:20260425T213943
CREATED:20250118T221320Z
LAST-MODIFIED:20250125T194150Z
UID:1874-1739041200-1739048400@windsofhopeny.com
SUMMARY:Appreciation Dinner 2025
DESCRIPTION:You are cordially invited to a special Appreciation Dinner on Saturday\, February 8th\, at 7:00 PM\, hosted at the Courtyard Hotel (please see address below). \nJoin us for a memorable evening of socializing and networking with like-minded business professionals from our community. This exclusive event is designed to celebrate your achievements and provide you with invaluable insights and tools to prioritize the most important aspects of your personal and business agenda for 2025. \nThis is an opportunity to connect\, learn\, and grow. If you’ve received this invitation\, it’s because you are special to us\, and we believe in your potential to make 2025 your best year yet. \nWe look forward to seeing you there!
URL:https://windsofhopeny.com/event/app-dinner-2025/
LOCATION:Marriott Courtyard\, 11 Courthouse Dr\, Central Islip\, NY\, 11722\, United States
ATTACH;FMTTYPE=image/png:https://windsofhopeny.com/wp-content/uploads/2025/01/WoH-Appreciation-Dinner.png
ORGANIZER;CN="Angie Najera":MAILTO:angie@windsofhopeny.com
END:VEVENT
END:VCALENDAR